{
 "currentVersion": 10.81,
 "serviceDescription": "Water Gen Map",
 "name": "WaterGenMap",
 "description": "Water Gen Map",
 "extent": {
  "xmin": 334569.411,
  "ymin": 1.0580431633522E7,
  "xmax": 499056.13850400003,
  "ymax": 1.07583277E7,
  "spatialReference": {
   "wkid": 102739,
   "latestWkid": 2277
  }
 },
 "initialExtent": {
  "xmin": 334569.411,
  "ymin": 1.0580431633522E7,
  "xmax": 499056.13850400003,
  "ymax": 1.07583277E7,
  "spatialReference": {
   "wkid": 102739,
   "latestWkid": 2277
  }
 },
 "fullExtent": {
  "xmin": 334569.411,
  "ymin": 1.0580431633522E7,
  "xmax": 499056.13850400003,
  "ymax": 1.07583277E7,
  "spatialReference": {
   "wkid": 102739,
   "latestWkid": 2277
  }
 },
 "pixelSizeX": 1.091166,
 "pixelSizeY": 1.0911659999999945,
 "bandCount": 3,
 "pixelType": "U8",
 "minPixelSize": 0,
 "maxPixelSize": 0,
 "copyrightText": "",
 "serviceDataType": "esriImageServiceDataTypeRGB",
 "minValues": [],
 "maxValues": [],
 "meanValues": [],
 "stdvValues": [],
 "objectIdField": "",
 "fields": [],
 "capabilities": "Image,Metadata,Mensuration",
 "defaultMosaicMethod": "Center",
 "allowedMosaicMethods": "",
 "sortField": "",
 "sortValue": null,
 "sortAscending": true,
 "mosaicOperator": "First",
 "defaultCompressionQuality": 75,
 "defaultResamplingMethod": "Bilinear",
 "maxImageHeight": 4100,
 "maxImageWidth": 15000,
 "allowRasterFunction": true,
 "rasterFunctionInfos": [
  {
   "name": "None",
   "description": "",
   "help": ""
  }
 ],
 "rasterTypeInfos": [
  {
   "name": "Raster Dataset",
   "description": "Supports all ArcGIS Raster Datasets",
   "help": ""
  }
 ],
 "mensurationCapabilities": "Basic",
 "hasHistograms": false,
 "hasColormap": false,
 "hasRasterAttributeTable": false,
 "minScale": 0,
 "maxScale": 0,
 "exportTilesAllowed": false,
 "hasMultidimensions": false,
 "supportsStatistics": false,
 "supportsAdvancedQueries": false,
 "editFieldsInfo": null,
 "ownershipBasedAccessControlForRasters": null,
 "allowComputeTiePoints": false,
 "useStandardizedQueries": true,
 "advancedQueryCapabilities": {
  "useStandardizedQueries": true,
  "supportsStatistics": false,
  "supportsOrderBy": false,
  "supportsDistinct": false,
  "supportsPagination": false
 },
 "spatialReference": {
  "wkid": 102739,
  "latestWkid": 2277
 }
}
